BEGIN:VCALENDAR
VERSION:2.0
PRODID:-//eventon.com NONSGML v1.0//EN
CALSCALE:GREGORIAN
METHOD:PUBLISH
BEGIN:VEVENT
UID:69e7566a6d83b
DTSTAMP:20260421T105018Z
DTSTART:20230428T070000Z
DTEND:20230429T150000Z
LOCATION:Gokartcentralen Göteborg Bergslagsgatan 6
SUMMARY:SWS E-SPRINT CUP FINALS
DESCRIPTION:SWS E-SPRINT CUP FINALS\nhttps://gokartcentralen.se/events/sws-
 final-elgokart/
URL:https://gokartcentralen.se/events/sws-final-elgokart/
END:VEVENT
END:VCALENDAR