BEGIN:VCALENDAR
VERSION:2.0
PRODID:-//eventon.com NONSGML v1.0//EN
CALSCALE:GREGORIAN
METHOD:PUBLISH
BEGIN:VEVENT
UID:69e7571694a12
DTSTAMP:20260421T105310Z
DTSTART:20250128T170000Z
DTEND:20250128T190000Z
LOCATION:Gokartcentralen Kungälv Arntorpsgatan 22
SUMMARY:OGP Kids - Kungälv
DESCRIPTION:\nhttps://gokartcentralen.se/events/ogp-kids-kungalv/
URL:https://gokartcentralen.se/events/ogp-kids-kungalv/
END:VEVENT
END:VCALENDAR